
BEGIN:VCALENDAR
VERSION:2.0
PRODID:-//MarkedsPartner AS//Umbraco CMS//NO
TIMEZONE-ID:Europe/Oslo
X-WR-TIMEZONE:Europe/Oslo


BEGIN:VEVENT
UID:b5f07c443662416982dd787bdc6c1808
URL:https://umbraco.naeringsforeningen.no/moeter/arkiv/arendalsuka-dag-2_130824/
ORGANIZER;CN=Ola Normann:MAILTO:ola.normann@markedspartner.no
DTSTAMP:20240813T070000Z
DTSTART:20240813T070000Z
DTEND:20240813T160000Z
LAST-MODIFIED:20240819T080027Z
SUMMARY:Arendalsuka Dag 2
DESCRIPTION:Her finner du oversikten over programmet på Rygerelektra under andre dag på Arendalsuka.
X-ALT-DESC:Her finner du oversikten over programmet p&#229; Rygerelektra under andre dag p&#229; Arendalsuka.
LOCATION:Rygerelektra, Pollen, Arendal
END:VEVENT


END:VCALENDAR



