
BEGIN:VCALENDAR
VERSION:2.0
PRODID:-//MarkedsPartner AS//Umbraco CMS//NO
TIMEZONE-ID:Europe/Oslo
X-WR-TIMEZONE:Europe/Oslo


BEGIN:VEVENT
UID:36c7cb579be24bbb8e6bb85d7a53f253
URL:https://umbraco.naeringsforeningen.no/moeter/arkiv/arendalsuka-dag-1_120824/
ORGANIZER;CN=Ola Normann:MAILTO:ola.normann@markedspartner.no
DTSTAMP:20240812T083000Z
DTSTART:20240812T083000Z
DTEND:20240812T170000Z
LAST-MODIFIED:20240819T080009Z
SUMMARY:Arendalsuka Dag 1
DESCRIPTION:Her finner du oversikten over programmet på Rygerelektra under første dag på Arendalsuka.
X-ALT-DESC:Her finner du oversikten over programmet p&#229; Rygerelektra under f&#248;rste dag p&#229; Arendalsuka.
LOCATION:Rygerelektra, Pollen Arendal
END:VEVENT


END:VCALENDAR



