
BEGIN:VCALENDAR
VERSION:2.0
PRODID:-//MarkedsPartner AS//Umbraco CMS//NO
TIMEZONE-ID:Europe/Oslo
X-WR-TIMEZONE:Europe/Oslo


BEGIN:VEVENT
UID:9123d67c79d84201a5072987a7ead88b
URL:https://umbraco.naeringsforeningen.no/moeter/arkiv/arendalsuka-dag-1_110825/
ORGANIZER;CN=Ola Normann:MAILTO:ola.normann@markedspartner.no
DTSTAMP:20250811T080000Z
DTSTART:20250811T080000Z
DTEND:20250811T170000Z
LAST-MODIFIED:20250821T081224Z
SUMMARY:Arendalsuka Dag 1
DESCRIPTION:Her finner du oversikten over programmet på Rygerelektra under første dag på Arendalsuka.
X-ALT-DESC:Her finner du oversikten over programmet p&#229; Rygerelektra under f&#248;rste dag p&#229; Arendalsuka.
LOCATION:Rygerelektra, Pollen Arendal
END:VEVENT


END:VCALENDAR



