
BEGIN:VCALENDAR
VERSION:2.0
PRODID:-//MarkedsPartner AS//Umbraco CMS//NO
TIMEZONE-ID:Europe/Oslo
X-WR-TIMEZONE:Europe/Oslo


BEGIN:VEVENT
UID:88ae1a9b4e1442d8880e636520ac8351
URL:https://umbraco.naeringsforeningen.no/moeter/arkiv/arena-ryfylke-2024/
ORGANIZER;CN=Ola Normann:MAILTO:ola.normann@markedspartner.no
DTSTAMP:20241112T090000Z
DTSTART:20241112T090000Z
DTEND:20241112T183000Z
LAST-MODIFIED:20241112T070853Z
SUMMARY:Arena Ryfylke 2024: Kraftfull livsglede
DESCRIPTION:Folk i Ryfylke trivst betre med livet enn folk flest, viser ei undersøking. Men korleis står det til med næringslivet og framtidsoptimismen? Får me tak i nok folk og er det nok kraft til alle? Kraftfull livsglede er tema på Arena Ryfylke 2024, og blant innleiarane finn du Remy Atle Bilsback frå Sparebanken Vest, Svein Ilstad frå Statkraft og Anne Bratthammer frå Ryfylke IKS – og mange fleire. Me skal ut på tur i kraftfulle, kompakte Sauda og det blir garantert god mat. Velkomen til næringslivskonferansen Arena Ryfylke – haustens vakraste eventyr.
X-ALT-DESC:Folk i Ryfylke trivst betre med livet enn folk flest, viser ei unders&#248;king. Men korleis st&#229;r det til med n&#230;ringslivet og framtidsoptimismen? F&#229;r me tak i nok folk og er det nok kraft til alle? Kraftfull livsglede er tema p&#229; Arena Ryfylke 2024, og blant innleiarane finn du Remy Atle Bilsback fr&#229; Sparebanken Vest, Svein Ilstad fr&#229; Statkraft og Anne Bratthammer fr&#229; Ryfylke IKS – og mange fleire. Me skal ut p&#229; tur i kraftfulle, kompakte Sauda og det blir garantert god mat. Velkomen til n&#230;ringslivskonferansen Arena Ryfylke – haustens vakraste eventyr.
LOCATION:Folkets Hus i Sauda/Sauda Klubb
END:VEVENT


END:VCALENDAR



