
BEGIN:VCALENDAR
VERSION:2.0
PRODID:-//MarkedsPartner AS//Umbraco CMS//NO
TIMEZONE-ID:Europe/Oslo
X-WR-TIMEZONE:Europe/Oslo


BEGIN:VEVENT
UID:c412518bd6eb452396a0039aa96248a9
URL:https://umbraco.naeringsforeningen.no/moeter/arkiv/arena-ryfylke-2023/
ORGANIZER;CN=Ola Normann:MAILTO:ola.normann@markedspartner.no
DTSTAMP:20231114T083000Z
DTSTART:20231114T083000Z
DTEND:20231114T183000Z
LAST-MODIFIED:20231116T090114Z
SUMMARY:Arena Ryfylke 2023: Verdien av vekst
DESCRIPTION:Korleis kan me veksa? Korleis er det å veksa? Må alle veksa? På Arena Ryfylke 2023 løfter me fram verdien av vekst. Mette Fossan, Helge Kjellevold, Ole Gunnar Fjelde, Elin Aasheim Rossemyr og Njål Skår er berre nokre av dei du møter – og me skal på busstur til pulserande Fiskå, Jørpeland og Tau. Garantert god mat, ein skikkelig god drøs og sjølvsagt årets Pilt-Ola pris. Velkomen til næringslivskonferansen Arena Ryfylke – haustens vakraste eventyr.
X-ALT-DESC:Korleis kan me veksa? Korleis er det &#229; veksa? M&#229; alle veksa? P&#229; Arena Ryfylke 2023 l&#248;fter me fram verdien av vekst. Mette Fossan, Helge Kjellevold, Ole Gunnar Fjelde, Elin Aasheim Rossemyr og Nj&#229;l Sk&#229;r er berre nokre av dei du m&#248;ter – og me skal p&#229; busstur til pulserande Fisk&#229;, J&#248;rpeland og Tau. Garantert god mat, ein skikkelig god dr&#248;s og sj&#248;lvsagt &#229;rets Pilt-Ola pris. Velkomen til n&#230;ringslivskonferansen Arena Ryfylke – haustens vakraste eventyr.
LOCATION:Tau kyrkje og Tau skole
END:VEVENT


END:VCALENDAR



