
BEGIN:VCALENDAR
VERSION:2.0
PRODID:-//MarkedsPartner AS//Umbraco CMS//NO
TIMEZONE-ID:Europe/Oslo
X-WR-TIMEZONE:Europe/Oslo


BEGIN:VEVENT
UID:9b439c51cd6d41bfbddf845f8221cd54
URL:https://umbraco.naeringsforeningen.no/moeter/arkiv/arena-ryfylke-2022/
ORGANIZER;CN=Ola Normann:MAILTO:ola.normann@markedspartner.no
DTSTAMP:20221109T080000Z
DTSTART:20221109T080000Z
DTEND:20221109T170000Z
LAST-MODIFIED:20221122T103354Z
SUMMARY:Arena Ryfylke 2022: Haustens vakreste eventyr
DESCRIPTION:Idylliske Jelsa, Norsk Stein, Wind Works Jelsa, unge stemmer, skaparånd og gründerspråk, skråblikk og analyser. Føredragshaldarar som økonomiekspert Remy Atle Bilsback i Sparebanken Vest og Geir Ims i Wind Works Jelsa. Idyllisk mat, idyllisk stemning og ikke minst årets Pilt-Ola pris. Velkomen til næringslivskonferansen Arena Ryfylke – haustens vakraste eventyr.
X-ALT-DESC:Idylliske Jelsa, Norsk Stein, Wind Works Jelsa, unge stemmer, skapar&#229;nd og gr&#252;nderspr&#229;k, skr&#229;blikk og analyser. F&#248;redragshaldarar som &#248;konomiekspert Remy Atle Bilsback i Sparebanken Vest og Geir Ims i Wind Works Jelsa. Idyllisk mat, idyllisk stemning og ikke minst &#229;rets Pilt-Ola pris. Velkomen til n&#230;ringslivskonferansen Arena Ryfylke – haustens vakraste eventyr.
LOCATION:Jelsa Bygdahus
END:VEVENT


END:VCALENDAR



