
BEGIN:VCALENDAR
VERSION:2.0
PRODID:-//MarkedsPartner AS//Umbraco CMS//NO
TIMEZONE-ID:Europe/Oslo
X-WR-TIMEZONE:Europe/Oslo


BEGIN:VEVENT
UID:1abb65c53148466a8220c6c5559b75ce
URL:https://umbraco.naeringsforeningen.no/moeter/arkiv/arena-ryfylke-2021/
ORGANIZER;CN=Ola Normann:MAILTO:ola.normann@markedspartner.no
DTSTAMP:20211111T080000Z
DTSTART:20211111T080000Z
DTEND:20211111T193000Z
LAST-MODIFIED:20221031T123002Z
SUMMARY:Arena Ryfylke: Haustens vakraste eventyr
DESCRIPTION:Leiarskap og verdiskaping, krafttak Ryfylke, oppdrett, eplemost og sider i verdsklasse. Føredragshaldarar som konsernsjef Hege Toft Karlsen i Eikagruppen og Lyse-sjef Eimund Nygård. Naturlegvis knallgod mat, naturlegvis topp stemning og naturlegvis i Hjelmeland. Velkomen til næringslivskonferansen Arena Ryfylke – haustens vakraste eventyr.
X-ALT-DESC:Leiarskap og verdiskaping, krafttak Ryfylke, oppdrett, eplemost og sider i verdsklasse. F&#248;redragshaldarar som konsernsjef Hege Toft Karlsen i Eikagruppen og Lyse-sjef Eimund Nyg&#229;rd. Naturlegvis knallgod mat, naturlegvis topp stemning og naturlegvis i Hjelmeland. Velkomen til n&#230;ringslivskonferansen Arena Ryfylke – haustens vakraste eventyr.
LOCATION:Hjelmeland Samfunnshus
END:VEVENT


END:VCALENDAR



