
BEGIN:VCALENDAR
VERSION:2.0
PRODID:-//MarkedsPartner AS//Umbraco CMS//NO
TIMEZONE-ID:Europe/Oslo
X-WR-TIMEZONE:Europe/Oslo


BEGIN:VEVENT
UID:a05721353cab4062a779fe612dd3c4fc
URL:https://umbraco.naeringsforeningen.no/moeter/arkiv/area-orientation_140921/
ORGANIZER;CN=Ola Normann:MAILTO:ola.normann@markedspartner.no
DTSTAMP:20210914T063000Z
DTSTART:20210914T063000Z
DTEND:20210914T133000Z
LAST-MODIFIED:20221031T122307Z
SUMMARY:Area Orientation program for newcomers to Norway
DESCRIPTION:SCI is a support program run by the Stavanger Chamber of Commerce . Our goal is to assist newcomers and their families adapt to Norwegian life in the best possible way. By providing the right support in the early stages of relocating, both employee and company will benefit greatly.
X-ALT-DESC:SCI is a support program run by the Stavanger Chamber of Commerce . Our goal is to assist newcomers and their families adapt to Norwegian life in the best possible way. By providing the right support in the early stages of relocating, both employee and company will benefit greatly.
LOCATION:Rosenkildehuset, Strandgaten 6, 4005 Stavanger
END:VEVENT


END:VCALENDAR



