
BEGIN:VCALENDAR
VERSION:2.0
PRODID:-//MarkedsPartner AS//Umbraco CMS//NO
TIMEZONE-ID:Europe/Oslo
X-WR-TIMEZONE:Europe/Oslo


BEGIN:VEVENT
UID:d690cdfa349e4816a3de63fd0738eb8b
URL:https://umbraco.naeringsforeningen.no/moeter/arkiv/arbeidsrettsseminar-2020/
ORGANIZER;CN=Ola Normann:MAILTO:ola.normann@markedspartner.no
DTSTAMP:20201028T073000Z
DTSTART:20201028T073000Z
DTEND:20201028T143000Z
LAST-MODIFIED:20221031T114404Z
SUMMARY:Arbeidsrettsseminar 2020: Nyheter og oppdateringer
DESCRIPTION:Næringsforeningen og Arntzen de Besche Advokatfirma inviterer til den årlige fagdagen i arbeidsrett. Her blir det fokus på aktuelle arbeidsrettslige utfordringer og praktiske løsninger for arbeidsgiver.
X-ALT-DESC:N&#230;ringsforeningen og Arntzen de Besche Advokatfirma inviterer til den &#229;rlige fagdagen i arbeidsrett. Her blir det fokus p&#229; aktuelle arbeidsrettslige utfordringer og praktiske l&#248;sninger for arbeidsgiver.
LOCATION:Rosenkildehuset
END:VEVENT


END:VCALENDAR



