
BEGIN:VCALENDAR
VERSION:2.0
PRODID:-//MarkedsPartner AS//Umbraco CMS//NO
TIMEZONE-ID:Europe/Oslo
X-WR-TIMEZONE:Europe/Oslo


BEGIN:VEVENT
UID:0022db77adc449e6a8be4fadccaa4ebc
URL:https://umbraco.naeringsforeningen.no/moeter/arkiv/arbeidsrett-2025/
ORGANIZER;CN=Ola Normann:MAILTO:ola.normann@markedspartner.no
DTSTAMP:20250116T073000Z
DTSTART:20250116T073000Z
DTEND:20250116T143000Z
LAST-MODIFIED:20250117T134602Z
SUMMARY:Arbeidsrettseminaret 2025
DESCRIPTION:Arntzen de Besche og Næringsforeningen i Stavanger-regionen inviterer til det årlige arbeidsrettseminaret – en møteplass for faglig oppdatering og praktisk innsikt. Her tar vi utgangspunkt i arbeidsgiveres daglige utfordringer og utforsker løsninger på sentrale arbeidsrettslige problemstillinger.
X-ALT-DESC:Arntzen de Besche og N&#230;ringsforeningen i Stavanger-regionen inviterer til det &#229;rlige arbeidsrettseminaret – en m&#248;teplass for faglig oppdatering og praktisk innsikt. Her tar vi utgangspunkt i arbeidsgiveres daglige utfordringer og utforsker l&#248;sninger p&#229; sentrale arbeidsrettslige problemstillinger.
LOCATION:Rosenkildehuset
END:VEVENT


END:VCALENDAR



