
BEGIN:VCALENDAR
VERSION:2.0
PRODID:-//MarkedsPartner AS//Umbraco CMS//NO
TIMEZONE-ID:Europe/Oslo
X-WR-TIMEZONE:Europe/Oslo


BEGIN:VEVENT
UID:aba499d89fd740669ddde0315f69af5e
URL:https://umbraco.naeringsforeningen.no/moeter/arkiv/arbeidsinnvandring_070521/
ORGANIZER;CN=Ola Normann:MAILTO:ola.normann@markedspartner.no
DTSTAMP:20210507T090000Z
DTSTART:20210507T090000Z
DTEND:20210507T103000Z
LAST-MODIFIED:20221031T121531Z
SUMMARY:Arbeidsinnvandring - inkl nytt fra UDI
DESCRIPTION:DIGITALKONFERANSE: Grensene har vært stengt, helt eller delvis, under pandemien. Mange bedrifter har ansatt nye medarbeidere som ikke har kunne starte i sin nye jobb.  Hva skjer når grensene åpner?   Viktig informasjon fra UDI  og praktisk tilnærming for alle bedrifter som har eller skal ha ansatte fra utlandet.
X-ALT-DESC:DIGITALKONFERANSE: Grensene har v&#230;rt stengt, helt eller delvis, under pandemien. Mange bedrifter har ansatt nye medarbeidere som ikke har kunne starte i sin nye jobb.  Hva skjer n&#229;r grensene &#229;pner?   Viktig informasjon fra UDI  og praktisk tiln&#230;rming for alle bedrifter som har eller skal ha ansatte fra utlandet.
LOCATION:Online
END:VEVENT


END:VCALENDAR



