
BEGIN:VCALENDAR
VERSION:2.0
PRODID:-//MarkedsPartner AS//Umbraco CMS//NO
TIMEZONE-ID:Europe/Oslo
X-WR-TIMEZONE:Europe/Oslo


BEGIN:VEVENT
UID:eb0d445260ba40629abe621a86d17a61
URL:https://umbraco.naeringsforeningen.no/moeter/arkiv/anskaffelsesdagen_191021/
ORGANIZER;CN=Ola Normann:MAILTO:ola.normann@markedspartner.no
DTSTAMP:20220118T080000Z
DTSTART:20220118T080000Z
DTEND:20220118T103000Z
LAST-MODIFIED:20221031T123133Z
SUMMARY:Offentlige anskaffelser
DESCRIPTION:DIGITALKONFERANSE: Få en oppdatering av siste nytt innen regelverket, og nyttige eksempler og diskusjon med innkjøpere som jobber med ny innkjøpstrategi.
X-ALT-DESC:DIGITALKONFERANSE: F&#229; en oppdatering av siste nytt innen regelverket, og nyttige eksempler og diskusjon med innkj&#248;pere som jobber med ny innkj&#248;pstrategi.
LOCATION:DIGITAL KONFERANSE
END:VEVENT


END:VCALENDAR



