
BEGIN:VCALENDAR
VERSION:2.0
PRODID:-//MarkedsPartner AS//Umbraco CMS//NO
TIMEZONE-ID:Europe/Oslo
X-WR-TIMEZONE:Europe/Oslo


BEGIN:VEVENT
UID:50173268abc74e8ea9d689e7a964fe4a
URL:https://umbraco.naeringsforeningen.no/moeter/arkiv/anskaffelsesdagen/
ORGANIZER;CN=Ola Normann:MAILTO:ola.normann@markedspartner.no
DTSTAMP:20190904T060000Z
DTSTART:20190904T060000Z
DTEND:20190904T110000Z
LAST-MODIFIED:20221031T113420Z
SUMMARY:Anskaffelsesdagen
DESCRIPTION:Hvilke store prosjekter ligger foran oss i regionen, og hvordan utvikle en best praksis slik at innkjøper og leverandør totalt får et best produkt eller tjeneste? På Anskaffelsesdagen får du svarene du trenger.
X-ALT-DESC:Hvilke store prosjekter ligger foran oss i regionen, og hvordan utvikle en best praksis slik at innkj&#248;per og leverand&#248;r totalt f&#229;r et best produkt eller tjeneste? P&#229; Anskaffelsesdagen f&#229;r du svarene du trenger.
LOCATION:Rosenkildehuset
END:VEVENT


END:VCALENDAR



