
BEGIN:VCALENDAR
VERSION:2.0
PRODID:-//MarkedsPartner AS//Umbraco CMS//NO
TIMEZONE-ID:Europe/Oslo
X-WR-TIMEZONE:Europe/Oslo


BEGIN:VEVENT
UID:01a690c745584863b631b829066a1372
URL:https://umbraco.naeringsforeningen.no/moeter/arkiv/am-konferanse-fysisk/
ORGANIZER;CN=Ola Normann:MAILTO:ola.normann@markedspartner.no
DTSTAMP:20211027T100000Z
DTSTART:20211027T100000Z
DTEND:20211027T140000Z
LAST-MODIFIED:20221031T122723Z
SUMMARY:Nasjonal konferanse om Additive Manufacturing – 3D printing
DESCRIPTION:Vi ønsker næringsliv og akademia velkommen til nasjonal konferanse om Additive Manufacturing – 3D printing.
X-ALT-DESC:Vi &#248;nsker n&#230;ringsliv og akademia velkommen til nasjonal konferanse om Additive Manufacturing – 3D printing.
LOCATION:Ullandhaug (M&#229;ltidets Hus)
END:VEVENT


END:VCALENDAR



