
BEGIN:VCALENDAR
VERSION:2.0
PRODID:-//MarkedsPartner AS//Umbraco CMS//NO
TIMEZONE-ID:Europe/Oslo
X-WR-TIMEZONE:Europe/Oslo


BEGIN:VEVENT
UID:b4e74d608c6a4c20bb82c52083fc8123
URL:https://umbraco.naeringsforeningen.no/moeter/arkiv/am-dagen/
ORGANIZER;CN=Ola Normann:MAILTO:ola.normann@markedspartner.no
DTSTAMP:20200310T080000Z
DTSTART:20200310T080000Z
DTEND:20200310T140000Z
LAST-MODIFIED:20221031T120102Z
SUMMARY:Additive manufacturing day: Reality now!
DESCRIPTION:Additive manufacturing, often known as «3d printing», is now longer for the future – it is a reality now.
X-ALT-DESC:Additive manufacturing, often known as &#171;3d printing&#187;, is now longer for the future – it is a reality now.
LOCATION:UiS (Tjodhallen)
END:VEVENT


END:VCALENDAR



