
BEGIN:VCALENDAR
VERSION:2.0
PRODID:-//MarkedsPartner AS//Umbraco CMS//NO
TIMEZONE-ID:Europe/Oslo
X-WR-TIMEZONE:Europe/Oslo


BEGIN:VEVENT
UID:f1d6c253308346eeb3bb90fdb9382602
URL:https://umbraco.naeringsforeningen.no/moeter/arkiv/aksjeaaret2025/
ORGANIZER;CN=Ola Normann:MAILTO:ola.normann@markedspartner.no
DTSTAMP:20250107T093000Z
DTSTART:20250107T093000Z
DTEND:20250107T120500Z
LAST-MODIFIED:20250107T134915Z
SUMMARY:Aksjeåret 2025
DESCRIPTION:Hvem har den beste krystallkulen, og hvem plukker de beste aksjene? Aksjeåret er finansbransjens store treffpunkt du ikke vil gå glipp av. Møteplassen for alle i vår region som er opptatt av økonomiske utsikter nasjonalt og globalt, og hvordan aksjemarkedet forventes å utvikle seg.
X-ALT-DESC:Hvem har den beste krystallkulen, og hvem plukker de beste aksjene? Aksje&#229;ret er finansbransjens store treffpunkt du ikke vil g&#229; glipp av. M&#248;teplassen for alle i v&#229;r region som er opptatt av &#248;konomiske utsikter nasjonalt og globalt, og hvordan aksjemarkedet forventes &#229; utvikle seg.
LOCATION:Clarion Hotel Stavanger
END:VEVENT


END:VCALENDAR



