
BEGIN:VCALENDAR
VERSION:2.0
PRODID:-//MarkedsPartner AS//Umbraco CMS//NO
TIMEZONE-ID:Europe/Oslo
X-WR-TIMEZONE:Europe/Oslo


BEGIN:VEVENT
UID:8ac22d10f4534c38a90568a08a527b91
URL:https://umbraco.naeringsforeningen.no/moeter/arkiv/aksjeaaret2024/
ORGANIZER;CN=Ola Normann:MAILTO:ola.normann@markedspartner.no
DTSTAMP:20240105T093000Z
DTSTART:20240105T093000Z
DTEND:20240105T121500Z
LAST-MODIFIED:20240105T134054Z
SUMMARY:Aksjeåret 2024
DESCRIPTION:Aksjeåret er finansbransjens store treffpunkt du ikke vil gå glipp av. Møteplassen for alle i vår region som er opptatt av økonomiske utsikter nasjonalt og globalt, og hvordan aksjemarkedet forventes å utvikle seg.
X-ALT-DESC:Aksje&#229;ret er finansbransjens store treffpunkt du ikke vil g&#229; glipp av. M&#248;teplassen for alle i v&#229;r region som er opptatt av &#248;konomiske utsikter nasjonalt og globalt, og hvordan aksjemarkedet forventes &#229; utvikle seg.
LOCATION:Clarion Hotel Stavanger
END:VEVENT


END:VCALENDAR



