
BEGIN:VCALENDAR
VERSION:2.0
PRODID:-//MarkedsPartner AS//Umbraco CMS//NO
TIMEZONE-ID:Europe/Oslo
X-WR-TIMEZONE:Europe/Oslo


BEGIN:VEVENT
UID:c060412c9ea645d29c9a941f7e902f97
URL:https://umbraco.naeringsforeningen.no/moeter/arkiv/aksjeaaret2023/
ORGANIZER;CN=Ola Normann:MAILTO:ola.normann@markedspartner.no
DTSTAMP:20230106T093000Z
DTSTART:20230106T093000Z
DTEND:20230106T121500Z
LAST-MODIFIED:20230106T140455Z
SUMMARY:Aksjeåret 2023
DESCRIPTION:Aksjeåret er finansbransjen store treffpunkt du ikke vil gå glipp av. Møteplassen for alle i vår region som er opptatt av økonomiske utsikter nasjonalt og globalt, og hvordan aksjemarkedet forventes å utvikle seg.
X-ALT-DESC:Aksje&#229;ret er finansbransjen store treffpunkt du ikke vil g&#229; glipp av. M&#248;teplassen for alle i v&#229;r region som er opptatt av &#248;konomiske utsikter nasjonalt og globalt, og hvordan aksjemarkedet forventes &#229; utvikle seg.
LOCATION:Clarion Hotel, Arne Rettedals gate 14, 4008 Stavanger
END:VEVENT


END:VCALENDAR



