
BEGIN:VCALENDAR
VERSION:2.0
PRODID:-//MarkedsPartner AS//Umbraco CMS//NO
TIMEZONE-ID:Europe/Oslo
X-WR-TIMEZONE:Europe/Oslo


BEGIN:VEVENT
UID:1bd719981812460ebb7eb84d8f2db50c
URL:https://umbraco.naeringsforeningen.no/moeter/arkiv/aksjeaaret-2022_060122/
ORGANIZER;CN=Ola Normann:MAILTO:ola.normann@markedspartner.no
DTSTAMP:20220106T103000Z
DTSTART:20220106T103000Z
DTEND:20220106T120000Z
LAST-MODIFIED:20221031T123400Z
SUMMARY:Aksjeåret 2022: Hvordan vil markedet utvikle seg i 2022?
DESCRIPTION:DIGITALKONFERANSE: Aksjeåret er den viktigste møteplassen for alle i vår region som er opptatt av de økonomiske utsiktene nasjonalt og internasjonalt, og hvordan aksjemarkedet forventes å utvikle seg.
X-ALT-DESC:DIGITALKONFERANSE: Aksje&#229;ret er den viktigste m&#248;teplassen for alle i v&#229;r region som er opptatt av de &#248;konomiske utsiktene nasjonalt og internasjonalt, og hvordan aksjemarkedet forventes &#229; utvikle seg.
LOCATION:DIGITAL KONFERANSE
END:VEVENT


END:VCALENDAR



