
BEGIN:VCALENDAR
VERSION:2.0
PRODID:-//MarkedsPartner AS//Umbraco CMS//NO
TIMEZONE-ID:Europe/Oslo
X-WR-TIMEZONE:Europe/Oslo


BEGIN:VEVENT
UID:d9c12a4b860b492cb463b866f633d947
URL:https://umbraco.naeringsforeningen.no/moeter/arkiv/aksjeaaret-2021/
ORGANIZER;CN=Ola Normann:MAILTO:ola.normann@markedspartner.no
DTSTAMP:20210106T103000Z
DTSTART:20210106T103000Z
DTEND:20210106T114500Z
LAST-MODIFIED:20221031T115838Z
SUMMARY:Aksjeåret 2021
DESCRIPTION:DIGITALKONFERANSE: AKSJEÅRET er den viktigste møteplassen for alle som er opptatt av investeringer i vår region, uansett om de jobber i bransjen eller generelt  er opptatt av industriell utvikling og hvilken retning investorene tar.  Hva er prognosene for den økonomiske utviklingen globalt og nasjonalt?
X-ALT-DESC:DIGITALKONFERANSE: AKSJE&#197;RET er den viktigste m&#248;teplassen for alle som er opptatt av investeringer i v&#229;r region, uansett om de jobber i bransjen eller generelt  er opptatt av industriell utvikling og hvilken retning investorene tar.  Hva er prognosene for den &#248;konomiske utviklingen globalt og nasjonalt?
LOCATION:Digital konferanse
END:VEVENT


END:VCALENDAR



