
BEGIN:VCALENDAR
VERSION:2.0
PRODID:-//MarkedsPartner AS//Umbraco CMS//NO
TIMEZONE-ID:Europe/Oslo
X-WR-TIMEZONE:Europe/Oslo


BEGIN:VEVENT
UID:a034381311ba4587874268a5e76e7b95
URL:https://umbraco.naeringsforeningen.no/moeter/arkiv/ai_salg170124/
ORGANIZER;CN=Ola Normann:MAILTO:ola.normann@markedspartner.no
DTSTAMP:20240117T100000Z
DTSTART:20240117T100000Z
DTEND:20240117T120000Z
LAST-MODIFIED:20240117T132203Z
SUMMARY:Praktisk bruk av kunstig intelligens i salg og markedsføring! 
DESCRIPTION:Leter du etter konkrete tips til hvordan bruke Kunstig Intelligens (KI) i jobben, som ChatGPT og andre verktøy? Eller er du usikker på nytteverdien med KI? Få praktiske tips på å bruke AI effektivt på jobben, som du kan ta i bruk allerede i dag.
X-ALT-DESC:Leter du etter konkrete tips til hvordan bruke Kunstig Intelligens (KI) i jobben, som ChatGPT og andre verkt&#248;y? Eller er du usikker p&#229; nytteverdien med KI? F&#229; praktiske tips p&#229; &#229; bruke AI effektivt p&#229; jobben, som du kan ta i bruk allerede i dag.
LOCATION:Rosenkildehuset
END:VEVENT


END:VCALENDAR



