
BEGIN:VCALENDAR
VERSION:2.0
PRODID:-//MarkedsPartner AS//Umbraco CMS//NO
TIMEZONE-ID:Europe/Oslo
X-WR-TIMEZONE:Europe/Oslo


BEGIN:VEVENT
UID:689c640cbe154933b28cb2a8e91b61b1
URL:https://umbraco.naeringsforeningen.no/moeter/arkiv/ai-serien-1-_sep-2024/
ORGANIZER;CN=Ola Normann:MAILTO:ola.normann@markedspartner.no
DTSTAMP:20240927T060000Z
DTSTART:20240927T060000Z
DTEND:20240927T080000Z
LAST-MODIFIED:20240927T083945Z
SUMMARY:Gjør bedriften klar for AI-revolusjonen
DESCRIPTION:Er din bedrift klar for de endringene som kunstig intelligens vil medføre? Hva bør du vurdere, og hvordan kan du sette opp ting riktig fra starten av? AI vil avdekke mange innsikter, og det er viktig å ha en strukturert tilnærming. I møtet vil du få praktiske tips om hvordan du kan være i forkant og implementere AI på best mulig måte.
X-ALT-DESC:Er din bedrift klar for de endringene som kunstig intelligens vil medf&#248;re? Hva b&#248;r du vurdere, og hvordan kan du sette opp ting riktig fra starten av? AI vil avdekke mange innsikter, og det er viktig &#229; ha en strukturert tiln&#230;rming. I m&#248;tet vil du f&#229; praktiske tips om hvordan du kan v&#230;re i forkant og implementere AI p&#229; best mulig m&#229;te.
LOCATION:Rosenkildehuset
END:VEVENT


END:VCALENDAR



