
BEGIN:VCALENDAR
VERSION:2.0
PRODID:-//MarkedsPartner AS//Umbraco CMS//NO
TIMEZONE-ID:Europe/Oslo
X-WR-TIMEZONE:Europe/Oslo


BEGIN:VEVENT
UID:ea315f0da22d4c019bd506e51b06db06
URL:https://umbraco.naeringsforeningen.no/moeter/arkiv/ai-muligheter-og-dilemmaer/
ORGANIZER;CN=Ola Normann:MAILTO:ola.normann@markedspartner.no
DTSTAMP:20231024T100000Z
DTSTART:20231024T100000Z
DTEND:20231024T110000Z
LAST-MODIFIED:20231024T110000Z
SUMMARY:AI – muligheter og dilemmaer
DESCRIPTION:DIGITALKONFERANSE: På kort tid har generativ AI blitt veldig aktuelt. Lanseringen av ChatGPT utvides kontinuerlig med banebrytende funksjonalitet, og diskusjonene raser om hvordan dette påvirker arbeidslivet, samfunnet og privatlivet.
X-ALT-DESC:DIGITALKONFERANSE: P&#229; kort tid har generativ AI blitt veldig aktuelt. Lanseringen av ChatGPT utvides kontinuerlig med banebrytende funksjonalitet, og diskusjonene raser om hvordan dette p&#229;virker arbeidslivet, samfunnet og privatlivet.
LOCATION:Digitalt
END:VEVENT


END:VCALENDAR



