
BEGIN:VCALENDAR
VERSION:2.0
PRODID:-//MarkedsPartner AS//Umbraco CMS//NO
TIMEZONE-ID:Europe/Oslo
X-WR-TIMEZONE:Europe/Oslo


BEGIN:VEVENT
UID:14726cb9f9bd4dc29ba547a5e9ad720b
URL:https://umbraco.naeringsforeningen.no/moeter/arkiv/agenda_301122/
ORGANIZER;CN=Ola Normann:MAILTO:ola.normann@markedspartner.no
DTSTAMP:20221130T080000Z
DTSTART:20221130T080000Z
DTEND:20221130T090000Z
LAST-MODIFIED:20221129T084610Z
SUMMARY:AVLYST:   AGENDA: Løypemeldingen: Bærekraft
DESCRIPTION:Hva er status i bærekraftsarbeidet, og hvilke utfordringer og muligheter ser virksomhetene i vår region i dette arbeidet?
X-ALT-DESC:Hva er status i b&#230;rekraftsarbeidet, og hvilke utfordringer og muligheter ser virksomhetene i v&#229;r region i dette arbeidet?
LOCATION:online
END:VEVENT


END:VCALENDAR



