
BEGIN:VCALENDAR
VERSION:2.0
PRODID:-//MarkedsPartner AS//Umbraco CMS//NO
TIMEZONE-ID:Europe/Oslo
X-WR-TIMEZONE:Europe/Oslo


BEGIN:VEVENT
UID:56e05defb42e41fd83d0f51fed5c5d9b
URL:https://umbraco.naeringsforeningen.no/moeter/arkiv/agenda_300322/
ORGANIZER;CN=Ola Normann:MAILTO:ola.normann@markedspartner.no
DTSTAMP:20220330T090000Z
DTSTART:20220330T090000Z
DTEND:20220330T100000Z
LAST-MODIFIED:20221031T122424Z
SUMMARY:AGENDA: Innføring i personvern
DESCRIPTION:I dagens digitale samfunn og arbeidsliv blir det stadig mer krevende for virksomheter å holde styr på regelverket rundt personopplysninger og hvordan man skal håndtere arbeidstakere og kunders krav på personvern samt oppfølging av leverandører.
X-ALT-DESC:I dagens digitale samfunn og arbeidsliv blir det stadig mer krevende for virksomheter &#229; holde styr p&#229; regelverket rundt personopplysninger og hvordan man skal h&#229;ndtere arbeidstakere og kunders krav p&#229; personvern samt oppf&#248;lging av leverand&#248;rer.
LOCATION:online
END:VEVENT


END:VCALENDAR



