
BEGIN:VCALENDAR
VERSION:2.0
PRODID:-//MarkedsPartner AS//Umbraco CMS//NO
TIMEZONE-ID:Europe/Oslo
X-WR-TIMEZONE:Europe/Oslo


BEGIN:VEVENT
UID:8dff4175f1124e37bb2e42d32c283174
URL:https://umbraco.naeringsforeningen.no/moeter/arkiv/agenda_280922/
ORGANIZER;CN=Ola Normann:MAILTO:ola.normann@markedspartner.no
DTSTAMP:20220928T070000Z
DTSTART:20220928T070000Z
DTEND:20220928T080000Z
LAST-MODIFIED:20221031T115757Z
SUMMARY:AGENDA: Hva du må vite om den nye forskriften om hjemmekontor
DESCRIPTION:DIGITALKONFERANSE: Etter pandemien har mange virksomheter gått over til mer fast bruk av hjemmekontor for sine ansatte. Forskrift om hjemmekontor er endret fra 1.7.22 og det følger med krav til skriftlig avtale om bl.a. hjemmekontor, arbeidstid, arbeidsmiljø og forsikringsavklaring.
X-ALT-DESC:DIGITALKONFERANSE: Etter pandemien har mange virksomheter g&#229;tt over til mer fast bruk av hjemmekontor for sine ansatte. Forskrift om hjemmekontor er endret fra 1.7.22 og det f&#248;lger med krav til skriftlig avtale om bl.a. hjemmekontor, arbeidstid, arbeidsmilj&#248; og forsikringsavklaring.
LOCATION:online
END:VEVENT


END:VCALENDAR



