
BEGIN:VCALENDAR
VERSION:2.0
PRODID:-//MarkedsPartner AS//Umbraco CMS//NO
TIMEZONE-ID:Europe/Oslo
X-WR-TIMEZONE:Europe/Oslo


BEGIN:VEVENT
UID:93ee4bce5fa743018b51e4607184165c
URL:https://umbraco.naeringsforeningen.no/moeter/arkiv/agenda_270422/
ORGANIZER;CN=Ola Normann:MAILTO:ola.normann@markedspartner.no
DTSTAMP:20220427T090000Z
DTSTART:20220427T090000Z
DTEND:20220427T100000Z
LAST-MODIFIED:20221031T122236Z
SUMMARY:AGENDA: Hjelp, jeg er blitt bærekraftsansvarlig!
DESCRIPTION:DIGITALKONFERANSE: Bærekraft er blitt et viktig og stort tema for næringslivet. Likevel kan det se ut som om spesielt mange små og mellomstore bedrifter i liten grad har kommet i gang med bærekraftsarbeidet. Hvordan starter man og hva bør man fokusere på?
X-ALT-DESC:DIGITALKONFERANSE: B&#230;rekraft er blitt et viktig og stort tema for n&#230;ringslivet. Likevel kan det se ut som om spesielt mange sm&#229; og mellomstore bedrifter i liten grad har kommet i gang med b&#230;rekraftsarbeidet. Hvordan starter man og hva b&#248;r man fokusere p&#229;?
LOCATION:online
END:VEVENT


END:VCALENDAR



