
BEGIN:VCALENDAR
VERSION:2.0
PRODID:-//MarkedsPartner AS//Umbraco CMS//NO
TIMEZONE-ID:Europe/Oslo
X-WR-TIMEZONE:Europe/Oslo


BEGIN:VEVENT
UID:95b55545aa864d62a1123a88b8913afd
URL:https://umbraco.naeringsforeningen.no/moeter/arkiv/agenda_261022/
ORGANIZER;CN=Ola Normann:MAILTO:ola.normann@markedspartner.no
DTSTAMP:20221026T070000Z
DTSTART:20221026T070000Z
DTEND:20221026T080000Z
LAST-MODIFIED:20221101T084455Z
SUMMARY:AGENDA: Slik overholder din bedrift GDPR- og cookie-reglene
DESCRIPTION:DIGITALKONFERANSE:  Dette webinaret er en forlengelse av «Innføring i personvern», og kan oppleves både i sammenheng og som individuelt, enkeltstående webinar.
X-ALT-DESC:DIGITALKONFERANSE:  Dette webinaret er en forlengelse av &#171;Innf&#248;ring i personvern&#187;, og kan oppleves b&#229;de i sammenheng og som individuelt, enkeltst&#229;ende webinar.
LOCATION:online
END:VEVENT


END:VCALENDAR



