
BEGIN:VCALENDAR
VERSION:2.0
PRODID:-//MarkedsPartner AS//Umbraco CMS//NO
TIMEZONE-ID:Europe/Oslo
X-WR-TIMEZONE:Europe/Oslo


BEGIN:VEVENT
UID:c5cc591a448d499584f8bfc2cb6a9743
URL:https://umbraco.naeringsforeningen.no/moeter/arkiv/agenda_260122/
ORGANIZER;CN=Ola Normann:MAILTO:ola.normann@markedspartner.no
DTSTAMP:20220126T100000Z
DTSTART:20220126T100000Z
DTEND:20220126T110000Z
LAST-MODIFIED:20221031T123022Z
SUMMARY:AGENDA: Grunnleggende regnskapsforståelse
DESCRIPTION:DIGITALKONFERANSE: Ønsker du å lære deg hvordan du raskt og effektivt leser et regnskap? Lær deg de beste triksene i dette møtet.
X-ALT-DESC:DIGITALKONFERANSE: &#216;nsker du &#229; l&#230;re deg hvordan du raskt og effektivt leser et regnskap? L&#230;r deg de beste triksene i dette m&#248;tet.
LOCATION:online
END:VEVENT


END:VCALENDAR



