
BEGIN:VCALENDAR
VERSION:2.0
PRODID:-//MarkedsPartner AS//Umbraco CMS//NO
TIMEZONE-ID:Europe/Oslo
X-WR-TIMEZONE:Europe/Oslo


BEGIN:VEVENT
UID:f8c92bbb2bbb4983a42d5c127eaa4018
URL:https://umbraco.naeringsforeningen.no/moeter/arkiv/agenda_250522/
ORGANIZER;CN=Ola Normann:MAILTO:ola.normann@markedspartner.no
DTSTAMP:20220525T070000Z
DTSTART:20220525T070000Z
DTEND:20220525T080000Z
LAST-MODIFIED:20221031T121813Z
SUMMARY:AGENDA: Endringer i arbeidsmiljøloven
DESCRIPTION:DIGITALKONFERANSE: Regjeringen foreslår nye betydelige innstramminger av reglene for innleie.
Hvilke konsekvenser kan endringene få for din virksomhet og næringslivet forøvrig?
X-ALT-DESC:DIGITALKONFERANSE: Regjeringen foresl&#229;r nye betydelige innstramminger av reglene for innleie.
Hvilke konsekvenser kan endringene f&#229; for din virksomhet og n&#230;ringslivet for&#248;vrig?
LOCATION:online
END:VEVENT


END:VCALENDAR



