
BEGIN:VCALENDAR
VERSION:2.0
PRODID:-//MarkedsPartner AS//Umbraco CMS//NO
TIMEZONE-ID:Europe/Oslo
X-WR-TIMEZONE:Europe/Oslo


BEGIN:VEVENT
UID:106e9f3607e14154b448b9924eb7c3d9
URL:https://umbraco.naeringsforeningen.no/moeter/arkiv/agenda_240822/
ORGANIZER;CN=Ola Normann:MAILTO:ola.normann@markedspartner.no
DTSTAMP:20220824T090000Z
DTSTART:20220824T090000Z
DTEND:20220824T100000Z
LAST-MODIFIED:20221031T121746Z
SUMMARY:AGENDA: Den nye åpenhetsloven og det du må ha på plass
DESCRIPTION:DIGITALKONFERANSE: Den nye åpenhetsloven trer i kraft allerede 1. juli 2022. Formålet med loven er å fremme respekt for grunnleggende menneskerettigheter og anstendige arbeidsforhold i forbindelse med produksjon av varer og tjenester. Advokatfirmaet Arntzen de Besche gir deg nyttige verktøy for hvordan du implementerer kravene, i tillegg får du en oversikt over de dokumentene som bedriften din bør ha på plass for å være compliant.
X-ALT-DESC:DIGITALKONFERANSE: Den nye &#229;penhetsloven trer i kraft allerede 1. juli 2022. Form&#229;let med loven er &#229; fremme respekt for grunnleggende menneskerettigheter og anstendige arbeidsforhold i forbindelse med produksjon av varer og tjenester. Advokatfirmaet Arntzen de Besche gir deg nyttige verkt&#248;y for hvordan du implementerer kravene, i tillegg f&#229;r du en oversikt over de dokumentene som bedriften din b&#248;r ha p&#229; plass for &#229; v&#230;re compliant.
LOCATION:online
END:VEVENT


END:VCALENDAR



