
BEGIN:VCALENDAR
VERSION:2.0
PRODID:-//MarkedsPartner AS//Umbraco CMS//NO
TIMEZONE-ID:Europe/Oslo
X-WR-TIMEZONE:Europe/Oslo


BEGIN:VEVENT
UID:673de75a8cf14032abd8d4fe7ff0f99b
URL:https://umbraco.naeringsforeningen.no/moeter/arkiv/agenda_230222/
ORGANIZER;CN=Ola Normann:MAILTO:ola.normann@markedspartner.no
DTSTAMP:20220223T100000Z
DTSTART:20220223T100000Z
DTEND:20220223T110000Z
LAST-MODIFIED:20221031T122744Z
SUMMARY:AGENDA: Hva du må vite om pensjon
DESCRIPTION:DIGITALKONFERANSE: Er du forvirret av alle ord og uttrykk om pensjon? I denne utgaven av Agenda skal du få en innføring i alt du trenger å vite om pensjon sagt på en enkel måte.
X-ALT-DESC:DIGITALKONFERANSE: Er du forvirret av alle ord og uttrykk om pensjon? I denne utgaven av Agenda skal du f&#229; en innf&#248;ring i alt du trenger &#229; vite om pensjon sagt p&#229; en enkel m&#229;te.
LOCATION:online
END:VEVENT


END:VCALENDAR



