
BEGIN:VCALENDAR
VERSION:2.0
PRODID:-//MarkedsPartner AS//Umbraco CMS//NO
TIMEZONE-ID:Europe/Oslo
X-WR-TIMEZONE:Europe/Oslo


BEGIN:VEVENT
UID:bfae76493e5240878c5227f4f84086d5
URL:https://umbraco.naeringsforeningen.no/moeter/arkiv/agenda_061120/
ORGANIZER;CN=Ola Normann:MAILTO:ola.normann@markedspartner.no
DTSTAMP:20201106T073000Z
DTSTART:20201106T073000Z
DTEND:20201106T090000Z
LAST-MODIFIED:20221031T115203Z
SUMMARY:Agenda: Politikk for dummies
DESCRIPTION:Hvordan tas politiske beslutninger som påvirker min arbeidsplass, og min bedrift?
X-ALT-DESC:Hvordan tas politiske beslutninger som p&#229;virker min arbeidsplass, og min bedrift?
LOCATION:
END:VEVENT


END:VCALENDAR



