
BEGIN:VCALENDAR
VERSION:2.0
PRODID:-//MarkedsPartner AS//Umbraco CMS//NO
TIMEZONE-ID:Europe/Oslo
X-WR-TIMEZONE:Europe/Oslo


BEGIN:VEVENT
UID:1106baa1c82144aa86501e4516ef592f
URL:https://umbraco.naeringsforeningen.no/moeter/arkiv/agenda-tvister-i-arbeidsforhold/
ORGANIZER;CN=Ola Normann:MAILTO:ola.normann@markedspartner.no
DTSTAMP:20200207T080000Z
DTSTART:20200207T080000Z
DTEND:20200207T100000Z
LAST-MODIFIED:20221031T115931Z
SUMMARY:AGENDA: Tvister i arbeidsforhold, fra kaos til kontroll
DESCRIPTION:Vanskelige personalsaker, samarbeidsproblemer og uløste konflikter kan være ødeleggende for arbeidsmiljøet, og ta mye tid og ressurser for ledelsen. Hvordan håndterer du slike utfordringer?
X-ALT-DESC:Vanskelige personalsaker, samarbeidsproblemer og ul&#248;ste konflikter kan v&#230;re &#248;deleggende for arbeidsmilj&#248;et, og ta mye tid og ressurser for ledelsen. Hvordan h&#229;ndterer du slike utfordringer?
LOCATION:Scandic Stavanger City, Reidar Berges gate 7
END:VEVENT


END:VCALENDAR



