
BEGIN:VCALENDAR
VERSION:2.0
PRODID:-//MarkedsPartner AS//Umbraco CMS//NO
TIMEZONE-ID:Europe/Oslo
X-WR-TIMEZONE:Europe/Oslo


BEGIN:VEVENT
UID:92787c56bbb74bafbfbbbba9e6464385
URL:https://umbraco.naeringsforeningen.no/moeter/arkiv/agenda-nye-regler-for-varsling/
ORGANIZER;CN=Ola Normann:MAILTO:ola.normann@markedspartner.no
DTSTAMP:20191004T060000Z
DTSTART:20191004T060000Z
DTEND:20191004T080000Z
LAST-MODIFIED:20221031T113515Z
SUMMARY:Agenda: Nye regler for varsling
DESCRIPTION:Regelverket for varsling vil bli endret med virkning fra 1. januar 2020. Kom og bli oppdatert!
X-ALT-DESC:Regelverket for varsling vil bli endret med virkning fra 1. januar 2020. Kom og bli oppdatert!
LOCATION:Rosenkildehuset
END:VEVENT


END:VCALENDAR



