
BEGIN:VCALENDAR
VERSION:2.0
PRODID:-//MarkedsPartner AS//Umbraco CMS//NO
TIMEZONE-ID:Europe/Oslo
X-WR-TIMEZONE:Europe/Oslo


BEGIN:VEVENT
UID:4d0d6f725d6546729b96af19f33f1750
URL:https://umbraco.naeringsforeningen.no/moeter/arkiv/agenda-diskrimineringsreglene/
ORGANIZER;CN=Ola Normann:MAILTO:ola.normann@markedspartner.no
DTSTAMP:20190906T060000Z
DTSTART:20190906T060000Z
DTEND:20190906T090000Z
LAST-MODIFIED:20221031T113426Z
SUMMARY:AGENDA: Diskrimineringsreglene
DESCRIPTION:Arbeidsgiver bør være særlig oppmerksom på diskrimineringsreglene ved gjennomføring av jobbintervju, under selve ansettelsesforholdet og ved nedbemanninger. Velkommen til AGENDA – møteserien der du får en grunnleggende innføring i tema du bør vite noe om.
X-ALT-DESC:Arbeidsgiver b&#248;r v&#230;re s&#230;rlig oppmerksom p&#229; diskrimineringsreglene ved gjennomf&#248;ring av jobbintervju, under selve ansettelsesforholdet og ved nedbemanninger. Velkommen til AGENDA – m&#248;teserien der du f&#229;r en grunnleggende innf&#248;ring i tema du b&#248;r vite noe om.
LOCATION:Rosenkildehuset
END:VEVENT


END:VCALENDAR



