
BEGIN:VCALENDAR
VERSION:2.0
PRODID:-//MarkedsPartner AS//Umbraco CMS//NO
TIMEZONE-ID:Europe/Oslo
X-WR-TIMEZONE:Europe/Oslo


BEGIN:VEVENT
UID:af0e55ba7bf845bfa4fc71f3ef6c6c9c
URL:https://umbraco.naeringsforeningen.no/moeter/arkiv/after-party-pion&#233;r/
ORGANIZER;CN=Ola Normann:MAILTO:ola.normann@markedspartner.no
DTSTAMP:20201014T130000Z
DTSTART:20201014T130000Z
DTEND:20201014T143000Z
LAST-MODIFIED:20221031T114056Z
SUMMARY:After Party Pionér
DESCRIPTION:Senk skuldrene og bli med på en feststemt ettermiddag med spennende Pionér-deltakere.
X-ALT-DESC:Senk skuldrene og bli med p&#229; en feststemt ettermiddag med spennende Pion&#233;r-deltakere.
LOCATION:FOMO
END:VEVENT


END:VCALENDAR



