
BEGIN:VCALENDAR
VERSION:2.0
PRODID:-//MarkedsPartner AS//Umbraco CMS//NO
TIMEZONE-ID:Europe/Oslo
X-WR-TIMEZONE:Europe/Oslo


BEGIN:VEVENT
UID:791b8905caa2428481f7fcc1d67d14a3
URL:https://umbraco.naeringsforeningen.no/moeter/arkiv/abc-for-positiv-energi-paa-jobb_2025/
ORGANIZER;CN=Ola Normann:MAILTO:ola.normann@markedspartner.no
DTSTAMP:20250514T093000Z
DTSTART:20250514T093000Z
DTEND:20250514T140000Z
LAST-MODIFIED:20250515T070943Z
SUMMARY:ABC for positiv energi på jobb
DESCRIPTION:Utenforskap, fysisk og psykisk helse er viktige tema. De kan ha stor betydning for deg og noen du kjenner. For bedriften kan det også dreie seg om HMS, sykefravær og resultater. Hva om arbeidsplassen kan være en kraftfull arena for viktig utvikling?
X-ALT-DESC:Utenforskap, fysisk og psykisk helse er viktige tema. De kan ha stor betydning for deg og noen du kjenner. For bedriften kan det ogs&#229; dreie seg om HMS, sykefrav&#230;r og resultater. Hva om arbeidsplassen kan v&#230;re en kraftfull arena for viktig utvikling?
LOCATION:Clarion Energy
END:VEVENT


END:VCALENDAR



