
BEGIN:VCALENDAR
VERSION:2.0
PRODID:-//MarkedsPartner AS//Umbraco CMS//NO
TIMEZONE-ID:Europe/Oslo
X-WR-TIMEZONE:Europe/Oslo


BEGIN:VEVENT
UID:44c637c909df423e82c5936a42dc12b1
URL:https://umbraco.naeringsforeningen.no/moeter/arkiv/aarets-bedrift-261120/
ORGANIZER;CN=Ola Normann:MAILTO:ola.normann@markedspartner.no
DTSTAMP:20201126T173000Z
DTSTART:20201126T173000Z
DTEND:20201126T220000Z
LAST-MODIFIED:20221031T115423Z
SUMMARY:Årets bedrift 2020
DESCRIPTION:Det er klart for den 34. kåringen av Årets bedrift! Ta på finstasen og bli med på en tradisjonell helaften for næringslivet i Atlantic Hall. Vi lover en kveld med god stemning, et hovedforedrag ved bokaktuelle Sven Egil Omdal, morsom underholdning og prisseremoni anført av Stavangers ordfører Kari Nessa Nordtun. God mat og drikke er en selvfølge!
X-ALT-DESC:Det er klart for den 34. k&#229;ringen av &#197;rets bedrift! Ta p&#229; finstasen og bli med p&#229; en tradisjonell helaften for n&#230;ringslivet i Atlantic Hall. Vi lover en kveld med god stemning, et hovedforedrag ved bokaktuelle Sven Egil Omdal, morsom underholdning og prisseremoni anf&#248;rt av Stavangers ordf&#248;rer Kari Nessa Nordtun. God mat og drikke er en selvf&#248;lge!
LOCATION:Atlantic Hall
END:VEVENT


END:VCALENDAR



