
BEGIN:VCALENDAR
VERSION:2.0
PRODID:-//MarkedsPartner AS//Umbraco CMS//NO
TIMEZONE-ID:Europe/Oslo
X-WR-TIMEZONE:Europe/Oslo


BEGIN:VEVENT
UID:6360d4c8237c4a7584e63d5c698052e3
URL:https://umbraco.naeringsforeningen.no/moeter/arkiv/aarets-bedrift-2024/
ORGANIZER;CN=Ola Normann:MAILTO:ola.normann@markedspartner.no
DTSTAMP:20241114T173000Z
DTSTART:20241114T173000Z
DTEND:20241114T220000Z
LAST-MODIFIED:20241115T083034Z
SUMMARY:Årets bedrift 2024
DESCRIPTION:Det er klart for den 38. kåringen av Årets bedrift! Ta på finstasen og bli med på en flott helaften for næringslivet i Atlantic Hall. Vi lover en kveld med god stemning, foredrag, underholdning og prisseremoni. God mat og drikke er en selvfølge!
X-ALT-DESC:Det er klart for den 38. k&#229;ringen av &#197;rets bedrift! Ta p&#229; finstasen og bli med p&#229; en flott helaften for n&#230;ringslivet i Atlantic Hall. Vi lover en kveld med god stemning, foredrag, underholdning og prisseremoni. God mat og drikke er en selvf&#248;lge!
LOCATION:Radisson Blu Atlantic
END:VEVENT


END:VCALENDAR



