
BEGIN:VCALENDAR
VERSION:2.0
PRODID:-//MarkedsPartner AS//Umbraco CMS//NO
TIMEZONE-ID:Europe/Oslo
X-WR-TIMEZONE:Europe/Oslo


BEGIN:VEVENT
UID:ee7de9e6902f41a6ae477fe8c618a341
URL:https://umbraco.naeringsforeningen.no/moeter/arkiv/aarets-bedrift-2023/
ORGANIZER;CN=Ola Normann:MAILTO:ola.normann@markedspartner.no
DTSTAMP:20231116T173000Z
DTSTART:20231116T173000Z
DTEND:20231116T220000Z
LAST-MODIFIED:20231117T114758Z
SUMMARY:Årets bedrift 2023!
DESCRIPTION:Det er klart for den 37. kåringen av Årets bedrift! Ta på finstasen og bli med på en flott helaften for næringslivet i Atlantic Hall. Vi lover en kveld med god stemning, foredrag, underholdning og prisseremoni. God mat og drikke er en selvfølge!
X-ALT-DESC:Det er klart for den 37. k&#229;ringen av &#197;rets bedrift! Ta p&#229; finstasen og bli med p&#229; en flott helaften for n&#230;ringslivet i Atlantic Hall. Vi lover en kveld med god stemning, foredrag, underholdning og prisseremoni. God mat og drikke er en selvf&#248;lge!
LOCATION:Atlantic Hall
END:VEVENT


END:VCALENDAR



