
BEGIN:VCALENDAR
VERSION:2.0
PRODID:-//MarkedsPartner AS//Umbraco CMS//NO
TIMEZONE-ID:Europe/Oslo
X-WR-TIMEZONE:Europe/Oslo


BEGIN:VEVENT
UID:6d7ed61a89b540bb9ca331c1cc1a437c
URL:https://umbraco.naeringsforeningen.no/moeter/arkiv/aarets-bedrift-2022-1/
ORGANIZER;CN=Ola Normann:MAILTO:ola.normann@markedspartner.no
DTSTAMP:20221117T173000Z
DTSTART:20221117T173000Z
DTEND:20221117T220000Z
LAST-MODIFIED:20230104T092510Z
SUMMARY:Årets bedrift 2022
DESCRIPTION:Det er klart for den 36. kåringen av Årets bedrift! Ta på finstasen og bli med på en flott helaften for næringslivet i Atlantic Hall – sammen med Bent Høie, Leif Tore Lindø, Jan Zahl, Kari Nessa Nordtun, Are Sleveland og Ingvar Hovland. Vi lover en kveld med god stemning, foredrag, underholdning og prisseremoni. God mat og drikke er en selvfølge!
X-ALT-DESC:Det er klart for den 36. k&#229;ringen av &#197;rets bedrift! Ta p&#229; finstasen og bli med p&#229; en flott helaften for n&#230;ringslivet i Atlantic Hall – sammen med Bent H&#248;ie, Leif Tore Lind&#248;, Jan Zahl, Kari Nessa Nordtun, Are Sleveland og Ingvar Hovland. Vi lover en kveld med god stemning, foredrag, underholdning og prisseremoni. God mat og drikke er en selvf&#248;lge!
LOCATION:Atlantic Hall
END:VEVENT


END:VCALENDAR



