
BEGIN:VCALENDAR
VERSION:2.0
PRODID:-//MarkedsPartner AS//Umbraco CMS//NO
TIMEZONE-ID:Europe/Oslo
X-WR-TIMEZONE:Europe/Oslo


BEGIN:VEVENT
UID:f1be3ec02d7d4834a24b181bbd1dfcc9
URL:https://umbraco.naeringsforeningen.no/moeter/arkiv/aarets-bedrift-2021/
ORGANIZER;CN=Ola Normann:MAILTO:ola.normann@markedspartner.no
DTSTAMP:20211125T173000Z
DTSTART:20211125T173000Z
DTEND:20211125T213000Z
LAST-MODIFIED:20221031T123216Z
SUMMARY:Årets bedrift 2021
DESCRIPTION:Det er klart for den 35. kåringen av Årets bedrift! Ta på finstasen og bli med på en flott helaften for næringslivet i Atlantic Hall – sammen med Sven Egil Omdal, Leif Tore Lindø, Jan Zahl, Martin Gjelsvik,  Kari Nessa Nordtun, Olav Larsen og Silje Finnskog Jensen. Vi lover en kveld med god stemning, foredrag, underholdning og prisseremoni. God mat og drikke er en selvfølge!
X-ALT-DESC:Det er klart for den 35. k&#229;ringen av &#197;rets bedrift! Ta p&#229; finstasen og bli med p&#229; en flott helaften for n&#230;ringslivet i Atlantic Hall – sammen med Sven Egil Omdal, Leif Tore Lind&#248;, Jan Zahl, Martin Gjelsvik,  Kari Nessa Nordtun, Olav Larsen og Silje Finnskog Jensen. Vi lover en kveld med god stemning, foredrag, underholdning og prisseremoni. God mat og drikke er en selvf&#248;lge!
LOCATION:Atlantic Hall
END:VEVENT


END:VCALENDAR



