
BEGIN:VCALENDAR
VERSION:2.0
PRODID:-//MarkedsPartner AS//Umbraco CMS//NO
TIMEZONE-ID:Europe/Oslo
X-WR-TIMEZONE:Europe/Oslo


BEGIN:VEVENT
UID:44a5b66a3c3945979170199eea3d2900
URL:https://umbraco.naeringsforeningen.no/moeter/arkiv/5050-mangfoldsprogram_230322/
ORGANIZER;CN=Ola Normann:MAILTO:ola.normann@markedspartner.no
DTSTAMP:20220323T110000Z
DTSTART:20220323T110000Z
DTEND:20220323T140000Z
LAST-MODIFIED:20221031T122615Z
SUMMARY:Mangfoldsprogrammet 50/50: Work-life balance
DESCRIPTION:Næringsforeningens ressursgruppe for mangfold inviterer til Mangfoldsprogrammet som vil styrke konkurranseevnen hos medlemsbedriftene. Tema 23. mars er work-life balance.
X-ALT-DESC:N&#230;ringsforeningens ressursgruppe for mangfold inviterer til Mangfoldsprogrammet som vil styrke konkurranseevnen hos medlemsbedriftene. Tema 23. mars er work-life balance.
LOCATION:Rosenkildehuset, Strandkaien 6, Stavanger
END:VEVENT


END:VCALENDAR



