
BEGIN:VCALENDAR
VERSION:2.0
PRODID:-//MarkedsPartner AS//Umbraco CMS//NO
TIMEZONE-ID:Europe/Oslo
X-WR-TIMEZONE:Europe/Oslo


BEGIN:VEVENT
UID:b726b586b2044ff29a8ea6f107fdce4f
URL:https://umbraco.naeringsforeningen.no/moeter/arkiv/5050-mangfoldsprogram-270422/
ORGANIZER;CN=Ola Normann:MAILTO:ola.normann@markedspartner.no
DTSTAMP:20220427T100000Z
DTSTART:20220427T100000Z
DTEND:20220427T130000Z
LAST-MODIFIED:20221031T122239Z
SUMMARY:Mangfoldsprogrammet: Veien til økt trivsel og lønnsomhet
DESCRIPTION:Hvis du vil tiltrekke deg de beste folkene, må du ha en god plan for mangfold i bedriften. Lykkes du vil det vise igjen på bunnlinjen, samtidig som alle ansatte får en bedre dag på jobb. Delta på vår workshop om mangfold og lær hvordan du lykkes på dette området.
X-ALT-DESC:Hvis du vil tiltrekke deg de beste folkene, m&#229; du ha en god plan for mangfold i bedriften. Lykkes du vil det vise igjen p&#229; bunnlinjen, samtidig som alle ansatte f&#229;r en bedre dag p&#229; jobb. Delta p&#229; v&#229;r workshop om mangfold og l&#230;r hvordan du lykkes p&#229; dette omr&#229;det.
LOCATION:Rosenkildehuset
END:VEVENT


END:VCALENDAR



