
BEGIN:VCALENDAR
VERSION:2.0
PRODID:-//MarkedsPartner AS//Umbraco CMS//NO
TIMEZONE-ID:Europe/Oslo
X-WR-TIMEZONE:Europe/Oslo


BEGIN:VEVENT
UID:5ae319ae54c541c4add61b4a92314860
URL:https://umbraco.naeringsforeningen.no/moeter/arkiv/5050-mangfoldsprogram-150222/
ORGANIZER;CN=Ola Normann:MAILTO:ola.normann@markedspartner.no
DTSTAMP:20220215T110000Z
DTSTART:20220215T110000Z
DTEND:20220215T123000Z
LAST-MODIFIED:20221031T122934Z
SUMMARY:Mangfoldsprogrammet 50/50: Organisasjonskultur og ledelse
DESCRIPTION:DIGITALKONFERANSE: Næringsforeningens ressursgruppe for mangfold inviterer til Mangfoldsprogrammet som vil styrke konkurranseevnen hos medlemsbedriftene.
X-ALT-DESC:DIGITALKONFERANSE: N&#230;ringsforeningens ressursgruppe for mangfold inviterer til Mangfoldsprogrammet som vil styrke konkurranseevnen hos medlemsbedriftene.
LOCATION:online
END:VEVENT


END:VCALENDAR



