
BEGIN:VCALENDAR
VERSION:2.0
PRODID:-//MarkedsPartner AS//Umbraco CMS//NO
TIMEZONE-ID:Europe/Oslo
X-WR-TIMEZONE:Europe/Oslo


BEGIN:VEVENT
UID:978afc28563a4d10b73696668ec2c1c9
URL:https://umbraco.naeringsforeningen.no/moeter/arkiv/5050-mangfoldsprogram-090622/
ORGANIZER;CN=Ola Normann:MAILTO:ola.normann@markedspartner.no
DTSTAMP:20220609T100000Z
DTSTART:20220609T100000Z
DTEND:20220609T130000Z
LAST-MODIFIED:20221031T121903Z
SUMMARY:Mangfold som driver for innovasjon
DESCRIPTION:Regionen og verden vi lever i består ikke av en grå masse hvor alle tenker og mener det samme. Det å bruke forskjeller og ulikheter som en driver for innovasjon, er ikke bare lurt, men faktisk nødvendig. Skal du gjøre en "scale up" på det internasjonale markedet, så krever det mangfold for å i det hele tatt lykkes. Førsteamanuensis ved Handelshøgskolen ved UiS, Marte Cecilie Wilhelmsen Solheim, forsker på mangfold og innovasjon. Hun forteller deg hvordan mangfold bør brukes som en driver for innovasjon – og ikke minst hvordan dette påvirker verdiskaping.
X-ALT-DESC:Regionen og verden vi lever i best&#229;r ikke av en gr&#229; masse hvor alle tenker og mener det samme. Det &#229; bruke forskjeller og ulikheter som en driver for innovasjon, er ikke bare lurt, men faktisk n&#248;dvendig. Skal du gj&#248;re en &quot;scale up&quot; p&#229; det internasjonale markedet, s&#229; krever det mangfold for &#229; i det hele tatt lykkes. F&#248;rsteamanuensis ved Handelsh&#248;gskolen ved UiS, Marte Cecilie Wilhelmsen Solheim, forsker p&#229; mangfold og innovasjon. Hun forteller deg hvordan mangfold b&#248;r brukes som en driver for innovasjon – og ikke minst hvordan dette p&#229;virker verdiskaping.
LOCATION:Rosenkildehuset
END:VEVENT


END:VCALENDAR



