
BEGIN:VCALENDAR
VERSION:2.0
PRODID:-//MarkedsPartner AS//Umbraco CMS//NO
TIMEZONE-ID:Europe/Oslo
X-WR-TIMEZONE:Europe/Oslo


BEGIN:VEVENT
UID:60ee3ec0de294c0e8e465ecf94b8e716
URL:https://umbraco.naeringsforeningen.no/moeter/arkiv/270923_treffpunkt-ryfylke/
ORGANIZER;CN=Ola Normann:MAILTO:ola.normann@markedspartner.no
DTSTAMP:20230927T160000Z
DTSTART:20230927T160000Z
DTEND:20230927T190000Z
LAST-MODIFIED:20230928T113705Z
SUMMARY:Treffpunkt Ryfylke med middag: Blå og grønn utvikling
DESCRIPTION:Helgøy er blitt landfast, Helgøybakkane Fruktgard satser på både frukt og turisme og Helgøy Skyssbåt øker stadig aktiviteten. Apal Sideri har satt Hjelmeland på sidekartet og Mowi etablerer fôrsentral på Hjelmeland. Vi inviterer til spennende foredrag, en god drøs og et godt måltid midt i frukthagene på Helgøy – i selveste Epleriet.
X-ALT-DESC:Helg&#248;y er blitt landfast, Helg&#248;ybakkane Fruktgard satser p&#229; b&#229;de frukt og turisme og Helg&#248;y Skyssb&#229;t &#248;ker stadig aktiviteten. Apal Sideri har satt Hjelmeland p&#229; sidekartet og Mowi etablerer f&#244;rsentral p&#229; Hjelmeland. Vi inviterer til spennende foredrag, en god dr&#248;s og et godt m&#229;ltid midt i frukthagene p&#229; Helg&#248;y – i selveste Epleriet.
LOCATION:Epleriet, Helg&#248;y i Ryfylke
END:VEVENT


END:VCALENDAR



