
BEGIN:VCALENDAR
VERSION:2.0
PRODID:-//MarkedsPartner AS//Umbraco CMS//NO
TIMEZONE-ID:Europe/Oslo
X-WR-TIMEZONE:Europe/Oslo


BEGIN:VEVENT
UID:c9745dceb3364331a5905d9d9e8fdf0f
URL:https://umbraco.naeringsforeningen.no/moeter/arkiv/171225-agenda-bygg/
ORGANIZER;CN=Ola Normann:MAILTO:ola.normann@markedspartner.no
DTSTAMP:20250117T070000Z
DTSTART:20250117T070000Z
DTEND:20250117T100000Z
LAST-MODIFIED:20250121T171716Z
SUMMARY:AGENDA BYGG: Dette er regenerativ design
DESCRIPTION:Regenerativ design handler om en helhetlig tilnærming til bygg og byggeprossessen. Vurdere stedets muligheter og behov, minimere inngrep og reparere kretsløp gjennom utforming, bygging og drift etter naturens premisser.
X-ALT-DESC:Regenerativ design handler om en helhetlig tiln&#230;rming til bygg og byggeprossessen. Vurdere stedets muligheter og behov, minimere inngrep og reparere kretsl&#248;p gjennom utforming, bygging og drift etter naturens premisser.
LOCATION:ARK, Auglendsmyr&#229; 11, Site 4016
END:VEVENT


END:VCALENDAR



