
BEGIN:VCALENDAR
VERSION:2.0
PRODID:-//MarkedsPartner AS//Umbraco CMS//NO
TIMEZONE-ID:Europe/Oslo
X-WR-TIMEZONE:Europe/Oslo


BEGIN:VEVENT
UID:ab3657a41bff410d913262d08f13f096
URL:https://umbraco.naeringsforeningen.no/moeter/arkiv/111224-agenda-bygg/
ORGANIZER;CN=Ola Normann:MAILTO:ola.normann@markedspartner.no
DTSTAMP:20241211T073000Z
DTSTART:20241211T073000Z
DTEND:20241211T093000Z
LAST-MODIFIED:20241212T121033Z
SUMMARY:AGENDA BYGG: Skjerpede klima- og miljøkrav – ett år etter 
DESCRIPTION:Det er snart ett år siden kommuner, fylkeskommuner og staten ble pålagt å vektlegge klima og miljøhensyn med 30 prosent i offentlige anskaffelser. Hvordan er erfaringene i bygg- og anleggsbransjen – ett år etter? Vi har med oss Sara Louise Sevheim fra Haver, Tord Carlsson fra Stavanger kommune og Oddgeir Tørset fra Sandnes kommune – for å gi oss en oppdatering!
X-ALT-DESC:Det er snart ett &#229;r siden kommuner, fylkeskommuner og staten ble p&#229;lagt &#229; vektlegge klima og milj&#248;hensyn med 30 prosent i offentlige anskaffelser. Hvordan er erfaringene i bygg- og anleggsbransjen – ett &#229;r etter? Vi har med oss Sara Louise Sevheim fra Haver, Tord Carlsson fra Stavanger kommune og Oddgeir T&#248;rset fra Sandnes kommune – for &#229; gi oss en oppdatering!
LOCATION:ARK, Auglendsmyr&#229; 11, Site 4016
END:VEVENT


END:VCALENDAR



